BEGIN:VCALENDAR
VERSION:2.0
PRODID:-//Squarespace Inc/Squarespace 6//v6//EN
BEGIN:VEVENT
UID:5e0acb2e8818570cab57a739@squarespace.com
DTSTAMP:20191231T085225Z
DTSTART:20200203T044500Z
DTEND:20200203T053000Z
SUMMARY:Hot Shots Orange Ball 
GEO:-37.864964;145.038985
LOCATION:Glendearg Malvern TC\, 8-10 Lysterville Avenue\, Malvern 3144\, Au
 stralia
END:VEVENT
END:VCALENDAR
