BEGIN:VCALENDAR
VERSION:2.0
PRODID:-//Squarespace Inc/Squarespace 6//v6//EN
BEGIN:VEVENT
UID:5e0b16a9192cf25f69168f29@squarespace.com
DTSTAMP:20191231T093658Z
DTSTART:20200207T033000Z
DTEND:20200207T040000Z
SUMMARY:Hot Shots Blue Stage (Kinder)
GEO:-37.864964;145.038985
LOCATION:Glendearg Malvern TC\, 8-10 Lysterville Avenue\, Malvern 3144\, Au
 stralia
END:VEVENT
END:VCALENDAR
