BEGIN:VCALENDAR
VERSION:2.0
PRODID:-//Squarespace Inc/Squarespace 6//v6//EN
BEGIN:VEVENT
UID:5e0b19a3a5b0832cb77227f2@squarespace.com
DTSTAMP:20191231T094946Z
DTSTART:20200203T000000Z
DTEND:20200203T003000Z
SUMMARY:Hot Shots Blue Stage (Kinder)
GEO:-37.864964;145.038985
LOCATION:Glendearg Malvern TC\, 8-10 Lysterville Avenue\, Malvern 3144\, Au
 stralia
END:VEVENT
END:VCALENDAR
