BEGIN:VCALENDAR
VERSION:2.0
PRODID:-//Squarespace Inc/Squarespace 6//v6//EN
BEGIN:VEVENT
UID:5e0b16eca5b0832cb77209e4@squarespace.com
DTSTAMP:20191231T093801Z
DTSTART:20200207T044500Z
DTEND:20200207T053000Z
SUMMARY:Hot Shots Red/Orange Ball
GEO:-37.864964;145.038985
LOCATION:Glendearg Malvern TC\, 8-10 Lysterville Avenue\, Malvern 3144\, Au
 stralia
END:VEVENT
END:VCALENDAR
