BEGIN:VCALENDAR
VERSION:2.0
PRODID:-//Squarespace Inc/Squarespace 6//v6//EN
BEGIN:VEVENT
UID:5e0b1949192cf25f6916a46f@squarespace.com
DTSTAMP:20191231T094910Z
DTSTART:20200209T023000Z
DTEND:20200209T040000Z
SUMMARY:Yellow Ball Squad Lesson
GEO:-37.864964;145.038985
LOCATION:Glendearg Malvern TC\, 8-10 Lysterville Avenue\, Malvern 3144\, Au
 stralia
END:VEVENT
END:VCALENDAR
