BEGIN:VCALENDAR
VERSION:2.0
PRODID:-//Squarespace Inc/Squarespace 6//v6//EN
BEGIN:VEVENT
UID:5e0b1186bb6d5e7d703cf26e@squarespace.com
DTSTAMP:20191231T092108Z
DTSTART:20200204T204500Z
DTEND:20200204T213000Z
SUMMARY:Hot Shots Orange Ball
GEO:-37.864964;145.038985
LOCATION:Glendearg Malvern TC\, 8-10 Lysterville Avenue\, Malvern 3144\, Au
 stralia
END:VEVENT
END:VCALENDAR
