BEGIN:VCALENDAR
VERSION:2.0
PRODID:-//Squarespace Inc/Squarespace 6//v6//EN
BEGIN:VEVENT
UID:5e0b142ea5b0832cb771e8c5@squarespace.com
DTSTAMP:20191231T094324Z
DTSTART:20200206T053000Z
DTEND:20200206T063000Z
SUMMARY:Green/Yellow Ball Squad Lesson
GEO:-37.864964;145.038985
LOCATION:Glendearg Malvern TC\, 8-10 Lysterville Avenue\, Malvern 3144\, Au
 stralia
END:VEVENT
END:VCALENDAR
