BEGIN:VCALENDAR
VERSION:2.0
PRODID:-//Squarespace Inc/Squarespace 6//v6//EN
BEGIN:VEVENT
UID:5e0b183ca5b0832cb7721a05@squarespace.com
DTSTAMP:20191231T094416Z
DTSTART:20200209T010000Z
DTEND:20200209T020000Z
SUMMARY:Green Ball Group Lesson
GEO:-37.864964;145.038985
LOCATION:Glendearg Malvern TC\, 8-10 Lysterville Avenue\, Malvern 3144\, Au
 stralia
END:VEVENT
END:VCALENDAR
